BEGIN:VCALENDAR
VERSION:2.0
PRODID:-//Azul es Cultura - ECPv6.15.20//NONSGML v1.0//EN
CALSCALE:GREGORIAN
METHOD:PUBLISH
X-ORIGINAL-URL:http://azulescultura.com.ar
X-WR-CALDESC:Eventos para Azul es Cultura
REFRESH-INTERVAL;VALUE=DURATION:PT1H
X-Robots-Tag:noindex
X-PUBLISHED-TTL:PT1H
BEGIN:VTIMEZONE
TZID:America/Sao_Paulo
BEGIN:STANDARD
TZOFFSETFROM:-0300
TZOFFSETTO:-0300
TZNAME:-03
DTSTART:20240101T000000
END:STANDARD
END:VTIMEZONE
BEGIN:VEVENT
DTSTART;TZID=America/Sao_Paulo:20251113T080000
DTEND;TZID=America/Sao_Paulo:20251209T170000
DTSTAMP:20260420T074036
CREATED:20251105T154733Z
LAST-MODIFIED:20251105T154733Z
UID:15583-1763020800-1765299600@azulescultura.com.ar
SUMMARY:A 40 años del Juicio a las Juntas\, la Facultad de Derecho UNICEN organiza un ciclo de actividades conmemorativas
DESCRIPTION:En el marco de los 40 años del Juicio a las Juntas\, la Facultad de Derecho de la Universidad Nacional del Centro de la Provincia de Buenos Aires (UNICEN) llevará adelante un ciclo de actividades con el objetivo de reflexionar sobre este hecho histórico y su impacto en la consolidación democrática y en la defensa de los derechos humanos. \nLas actividades se desarrollarán en el Centro de Investigación y Posgrado (Bolívar 481\, Azul)\, con entrada libre y gratuita. \nCronograma: \n\nJueves 13 de noviembre – 18 hs\n▶️ Proyección de la película “El juicio” (2023\, dirigida por Ulises de la Orden).\nMartes 18 de noviembre – 18 hs\n▶️ Inauguración de la muestra “El diario del juicio”.\n▶️ Conversación abierta con Soledad Restivo (ABRA UNICEN).\nViernes 28 de noviembre – 18 hs\n▶️ Conferencia magistral a cargo de Ricardo Gil Lavedra\, integrante del Tribunal que llevó adelante el histórico juicio.\nMartes 9 de diciembre – 17 hs\n▶️ Proyección del veredicto condenatorio y debate abierto.\n▶️ Conmemoración del Día de los Derechos Humanos.\n\n18 hs: Conferencia de cierre del ciclo. \nEstas actividades buscan generar un espacio de reflexión\, memoria y diálogo sobre el proceso judicial que marcó un antes y un después en la historia argentina\, reafirmando el compromiso de la Facultad de Derecho UNICEN con la verdad\, la justicia y los derechos humanos.
URL:http://azulescultura.com.ar/event/a-40-anos-del-juicio-a-las-juntas-la-facultad-de-derecho-unicen-organiza-un-ciclo-de-actividades-conmemorativas/
ATTACH;FMTTYPE=image/jpeg:http://azulescultura.com.ar/wp-content/uploads/2025/11/WhatsApp-Image-2025-10-28-at-15.51.43-1.jpeg
END:VEVENT
BEGIN:VEVENT
DTSTART;VALUE=DATE:20251205
DTEND;VALUE=DATE:20251206
DTSTAMP:20260420T074036
CREATED:20251025T151514Z
LAST-MODIFIED:20251025T152543Z
UID:15537-1764892800-1764979199@azulescultura.com.ar
SUMMARY:FABIÁN SIGOT CON SU SHOW UNIPERSONAL “RÁPIDO Y GRACIOSO”
DESCRIPTION:Fabián Sigot llega a Azul de la mano de GRG Producciones con este nuevo show unipersonal lleno de humor “Rápido y gracioso”\, en el que nos trae a dos de sus personajes más queridos como son La Caro e Inés\, sumando también nuevas reprepresentaciones. \nFICHA TÉCNICA \nLibro: Gabriel García / Fabián Sigot \nActor: Fabián Sigot \nDirección General: Gabriel García \nProducción Ejecutiva: Micaela Delvalle \nProducción General: Gabriel García \nFabian Sigot \nActor y humorista. \nComenzó su formación en el año 2016 en un seminario dictado por el teatro Cervantes\, INET. Luego comenzó la carrera en arte dramático en la Escuela de Arte y Comunicación EMAC. Recibido en el año 2020. Realizó seminarios de Clown. Performance y bufón durante el transcurso de su carrera. Formación musical\, en el año 2013 en el Conservatorio de música Alberto Ginastera\, orientado en canto lírico. Realizó como humorista cinco temporadas de verano en el partido de la costa. Creador de sus propios personajes y contenidos en redes sociales\, en donde miles de seguidores disfrutan de su arte. \nGabriel Garcia \nProductor\, autor y director de Espectáculos. \nDedicado a la producción de espectáculos desde 2003\, sus inicios fueron en la televisión para luego pasar por el cine y por último dedicarse a la producción de teatro fundamentalmente. Fundador de GRG Producciones\, sus obras acumulan más de 80 premios y distinciones. Fue distinguido entre otros premios con el “Premio ACE” 2013/14 Mejor Productor de espectáculos\, “Premio Hugo” 2014\, Mejor Productor integral de espectáculos\, “Premio Carlos” 2015 Mejor Productor integral\, “Premio Vos” 2015\, Mejor Productor integral de espectáculos. También gano un Premio “Estrella de Mar” 2012. \n Fabián Sigot con su show unipersonal “Rápido y gracioso” se presentará el Viernes 5 de diciembre a las 21 hs. en el Teatro Español de Azul con la organización de la Fundación del Teatro Español y auspiciado por la Asociación Española. \nEntradas anticipadas con ubicación a la venta en boletería del Teatro a $20.000.-
URL:http://azulescultura.com.ar/event/fabian-sigot-con-su-show-unipersonal-rapido-y-gracioso/
ATTACH;FMTTYPE=image/jpeg:http://azulescultura.com.ar/wp-content/uploads/2025/10/Fabian-Sigot-Rapido-y-gracioso-afiche-pagina-1.jpg
END:VEVENT
BEGIN:VEVENT
DTSTART;VALUE=DATE:20251206
DTEND;VALUE=DATE:20251207
DTSTAMP:20260420T074036
CREATED:20251120T103929Z
LAST-MODIFIED:20251120T103929Z
UID:15655-1764979200-1765065599@azulescultura.com.ar
SUMMARY:LLEGA EL OFICIAL GORDILLO POR PRIMERA VEZ A AZUL
DESCRIPTION:SE PRESENTA POR PRIMERA VEZ EN AZUL EL OFICIAL GORDILLO. \nMiguel Martin\, tal como nos tiene acostumbrados\, promete carcajadas de principio a fin con su nuevo espectáculo\, “Gordillo\, 20 años + 1”\, que combina humor\, recuerdos y emociones. \nEste show\, pensado para toda la familia\, invita a un viaje por las aventuras del querido Oficial Gordillo\, explorando las diferencias entre las infancias de antes y las actuales\, con el toque único que lo caracteriza. \nUna de las grandes sorpresas de la noche es la participación de “La Mary”\, quien\, con su estilo desopilante\, ofrece una sesión de psicología en la que interactúa directamente con el público\, generando momentos tan cómicos como entrañables. \nCon historias que reflejan vivencias cotidianas y recuerdos de su trayectoria\, “Gordillo 20 años + 1” se posiciona como un espectáculo ideal para compartir en familia\, ofreciendo una experiencia única\, que mezcla diversión y nostalgia. \nLa cita será el próximo Sábado 6 de Diciembre a las 20 hs. en el Teatro Español de Azul con la organización de la Fundación del Teatro Español y auspiciado por la Asociación Española. \nEntradas anticipadas con ubicación a la venta en la boletería del Teatro y a través de www.entradaweb.com.ar con todas las tarjetas y medios de pago. \nEntradas con valores desde $ 35.000.- hasta de $ 45.000.- según el sector elegido.
URL:http://azulescultura.com.ar/event/llega-el-oficial-gordillo-por-primera-vez-a-azul/
ATTACH;FMTTYPE=image/jpeg:http://azulescultura.com.ar/wp-content/uploads/2025/11/Oficial-Gordillo-afiche-pagina-1.jpg
END:VEVENT
BEGIN:VEVENT
DTSTART;TZID=America/Sao_Paulo:20251206T080000
DTEND;TZID=America/Sao_Paulo:20251206T170000
DTSTAMP:20260420T074036
CREATED:20251126T134840Z
LAST-MODIFIED:20251126T134840Z
UID:15670-1765008000-1765040400@azulescultura.com.ar
SUMMARY:Se hará la jornada cultural “Territorio Salamone”
DESCRIPTION:El Municipio de Azul informa que el sábado 6 de diciembre desde las 14\, se realizará la jornada cultural denominada  “Territorio Salamone”. \nLa actividad que se llevará a cabo en el Centro de Interpretación y en la Portada del Cementerio de Azul\, contará con feria de artistas locales\, rincón didáctico para infancias\, ceremonia de donación de una obra mural\, exposición “Memorias Nuevas de este suelo” de Agus Viazzi\, música en vivo\, presentaciones de libros y cantina. \nCabe recordar que la misma tiene como eje recorrer el legado de Salamone desde múltiples perspectivas\, transformando la arquitectura monumental en un catalizador de creatividad\, reflexión y aprendizaje colectivo. \nSe invita a la comunidad a participar de la iniciativa. \n  \n 
URL:http://azulescultura.com.ar/event/se-hara-la-jornada-cultural-territorio-salamone/
ATTACH;FMTTYPE=image/jpeg:http://azulescultura.com.ar/wp-content/uploads/2025/11/Territorio-Salamone.jpg
END:VEVENT
BEGIN:VEVENT
DTSTART;TZID=America/Sao_Paulo:20251206T080000
DTEND;TZID=America/Sao_Paulo:20251206T170000
DTSTAMP:20260420T074036
CREATED:20251201T184440Z
LAST-MODIFIED:20251201T184440Z
UID:15700-1765008000-1765040400@azulescultura.com.ar
SUMMARY:Sábado de cicloturismo: “Los cinco hermanos: legado\, ladrillos y bicicletas”
DESCRIPTION:El Municipio de Azul informa que este sábado 6 se realizará la actividad de Cicloturismo “Los cinco hermanos: legado\, ladrillos y bicicletas”\, un acercamiento a la historia industrial de nuestra ciudad a través del legado de la Familia Piazza. \nLos interesados en asistir a esta propuesta gratuita\, deberán dirigirse directamente al punto de encuentro que será ese día a las 17:30\, en la Plaza San Martín. \n 
URL:http://azulescultura.com.ar/event/sabado-de-cicloturismo-los-cinco-hermanos-legado-ladrillos-y-bicicletas/
ATTACH;FMTTYPE=image/jpeg:http://azulescultura.com.ar/wp-content/uploads/2025/12/cicloturismo.jpg
END:VEVENT
BEGIN:VEVENT
DTSTART;TZID=America/Sao_Paulo:20251206T080000
DTEND;TZID=America/Sao_Paulo:20251206T170000
DTSTAMP:20260420T074036
CREATED:20251201T184616Z
LAST-MODIFIED:20251201T184616Z
UID:15702-1765008000-1765040400@azulescultura.com.ar
SUMMARY:Se viene la jornada cultural “Territorio Salamone”
DESCRIPTION:El Municipio de Azul recuerda que este sábado 6\, desde las 14\, se realizará la jornada cultural denominada  “Territorio Salamone”. \nLa actividad que se llevará a cabo en el Centro de Interpretación y en la Portada del Cementerio Municipal\, contará con feria de artistas locales\, rincón didáctico para infancias\, ceremonia de donación de una obra mural\, exposición “Memorias Nuevas de este suelo” de Agus Viazzi\, música en vivo\, presentaciones de libros y cantina. \nCabe recordar que la misma tiene como eje recorrer el legado de Salamone desde múltiples perspectivas\, transformando la arquitectura monumental en un catalizador de creatividad\, reflexión y aprendizaje colectivo. \nSe invita a la comunidad a participar de la iniciativa.
URL:http://azulescultura.com.ar/event/se-viene-la-jornada-cultural-territorio-salamone/
ATTACH;FMTTYPE=image/jpeg:http://azulescultura.com.ar/wp-content/uploads/2025/12/Territorio-Salamone.jpg
END:VEVENT
BEGIN:VEVENT
DTSTART;TZID=America/Sao_Paulo:20251209T080000
DTEND;TZID=America/Sao_Paulo:20251209T170000
DTSTAMP:20260420T074036
CREATED:20251204T152133Z
LAST-MODIFIED:20251204T152133Z
UID:15720-1765267200-1765299600@azulescultura.com.ar
SUMMARY:Cierre del ciclo “A 40 años del Juicio a las Juntas”⁣⁣
DESCRIPTION:⁣⁣⁣La Facultad de Derecho UNICEN invita a participar del cierre del ciclo en el que se conmemorará el ‘Día de los Derechos Humanos’ y se realizará la presentación del videoclip “Cuando veo mi cara” de Facón.⁣⁣\n⁣\nAl finalizar\, se realizará la presentación del Centro Cultural Digital en la que habrá exposición de artes visuales y música en vivo\, con artistas de Azul\, Olavarría y Tandil.⁣⁣\n⁣⁣⁣⁣⁣⁣⁣\n📌 La actividad tendrá lugar el próximo martes 9 de diciembre a las 19 horas en el Centro de Investigación y Posgrado (Bolívar 481).⁣\n⁣⁣⁣⁣⁣⁣\n✔ Actividad abierta al público en general.
URL:http://azulescultura.com.ar/event/cierre-del-ciclo-a-40-anos-del-juicio-a-las-juntas%e2%81%a3%e2%81%a3/
ATTACH;FMTTYPE=image/jpeg:http://azulescultura.com.ar/wp-content/uploads/2025/12/WhatsApp-Image-2025-12-03-at-12.07.57.jpeg
END:VEVENT
BEGIN:VEVENT
DTSTART;TZID=America/Sao_Paulo:20251209T080000
DTEND;TZID=America/Sao_Paulo:20251209T170000
DTSTAMP:20260420T074036
CREATED:20251204T152206Z
LAST-MODIFIED:20251204T152206Z
UID:15724-1765267200-1765299600@azulescultura.com.ar
SUMMARY:Presentación del CCD
DESCRIPTION:📣 Presentación del CCD 👉 La Facultad de Derecho UNICEN invita a la comunidad a la presentación del Centro Cultural Digital\, un espacio pensado para promover\, alojar y difundir la cultura emergente de Azul\, Olavarría y Tandil.⁣\n⁣\n📅 Martes 9 de diciembre | 19.30 hs.⁣\n📍 Centro de Investigación y Posgrado (Bolívar 481)⁣\n✔ Actividad abierta al público en general. Entrada libre y gratuita.⁣\n⁣\nEl encuentro contará con:⁣\n🎨 Exposición colectiva de artes visuales de artistas locales y de la región.⁣\n📷 Exposición y proyección de estudiantes de 2º año de la carrera de Fotografía de la Escuela de Bellas Artes “Luciano Fortabat”.⁣\n🎶 Música en vivo a cargo de artistas de Azul\, Olavarría y Tandil.⁣\n⁣\n💡 El CCD es un Proyecto de Extensión gestionado desde la Facultad de Derecho UNICEN e integrado por docentes\, estudiantes y nodocentes. Se propone como una plataforma digital que tiene entre sus objetivos principales promover y difundir la cultura emergente en el ámbito digital.⁣\n⁣\n👉 Te esperamos para compartir arte\, música y comunidad en una jornada que celebra la cultura y sus derechos.
URL:http://azulescultura.com.ar/event/presentacion-del-ccd/
ATTACH;FMTTYPE=image/jpeg:http://azulescultura.com.ar/wp-content/uploads/2025/12/WhatsApp-Image-2025-12-04-at-10.54.31.jpeg
END:VEVENT
BEGIN:VEVENT
DTSTART;TZID=America/Sao_Paulo:20251212T080000
DTEND;TZID=America/Sao_Paulo:20251212T170000
DTSTAMP:20260420T074036
CREATED:20251205T165722Z
LAST-MODIFIED:20251205T165722Z
UID:15734-1765526400-1765558800@azulescultura.com.ar
SUMMARY:La osadía de hacer comunidad en el Centro Salamone
DESCRIPTION:El Municipio de Azul informa que el próximo viernes 12\, a partir de las 19\, en el Centro de Interpretación Salamone -Necochea y Pasaje del Líbano- se realizará la muestra final de los talleres de Zinclair Espacio de Arte. \nEste año\, sus integrantes trabajaron bajo el concepto «La osadía de hacer comunidad»\, en base a palabras de la presidenta del Instituto Cultural de la Provincia de Buenos Aires\, Florencia Saintout. \nEl evento contará con servicio de cantina\, música en vivo y sorpresas. Se invita a la comunidad a compartir una noche de cultura y encuentro. \n 
URL:http://azulescultura.com.ar/event/la-osadia-de-hacer-comunidad-en-el-centro-salamone/
ATTACH;FMTTYPE=image/jpeg:http://azulescultura.com.ar/wp-content/uploads/2025/12/Muesta-Zinclair.jpg
END:VEVENT
BEGIN:VEVENT
DTSTART;TZID=America/Sao_Paulo:20251215T080000
DTEND;TZID=America/Sao_Paulo:20251215T170000
DTSTAMP:20260420T074036
CREATED:20251201T184655Z
LAST-MODIFIED:20251201T184655Z
UID:15704-1765785600-1765818000@azulescultura.com.ar
SUMMARY:Cierre de actividades de la Escuela Municipal de Platería
DESCRIPTION:El Municipio de Azul informa que el lunes 15 de diciembre\, a partir de las 18\, en la Escuela Municipal de Platería\, se realizará el cierre de actividades\, con los talleres de filigrana\, marroquinería\, talla en madera\, telar e hilado\, biotextil y soguería. \nSe invita a estudiantes y sus familiares a acompañar la muestra. \n  \n 
URL:http://azulescultura.com.ar/event/cierre-de-actividades-de-la-escuela-municipal-de-plateria/
ATTACH;FMTTYPE=image/jpeg:http://azulescultura.com.ar/wp-content/uploads/2025/12/Plateria-muestra.jpg
END:VEVENT
BEGIN:VEVENT
DTSTART;TZID=America/Sao_Paulo:20251220T170000
DTEND;TZID=America/Sao_Paulo:20251220T220000
DTSTAMP:20260420T074036
CREATED:20251219T213345Z
LAST-MODIFIED:20251219T213345Z
UID:15767-1766250000-1766268000@azulescultura.com.ar
SUMMARY:1er Encuentro Regional “Azul es folklore”
DESCRIPTION:El Municipio de Azul recuerda que este sábado 20\, en el SUMAC – Avda. 25 de Mayo y San Martín- se realizará el 1er Encuentro Regional “Azul es folklore”\, un festival para transmitir la alegría y ritmo tradicional de nuestra cultura. \nEl encuentro incluirá un seminario arancelado de danzas litoraleñas\, a cargo del maestro santafesino Néstor Martínez\, que se realizará durante la tarde del sábado y finalizará con una peña folclórica\, con entrada libre y gratuita\, que contará con artistas invitados y servicio de cantina. \nQuienes deseen asistir al seminario\, organizado por el grupo “Azul es Folklore”\, deberán contactarse por WhatsApp al 2281-324321. \n 
URL:http://azulescultura.com.ar/event/1er-encuentro-regional-azul-es-folklore-2/
ATTACH;FMTTYPE=image/jpeg:http://azulescultura.com.ar/wp-content/uploads/2025/12/Azul-es-folklore-1.jpg
END:VEVENT
BEGIN:VEVENT
DTSTART;TZID=America/Sao_Paulo:20251221T080000
DTEND;TZID=America/Sao_Paulo:20251221T170000
DTSTAMP:20260420T074036
CREATED:20251218T152642Z
LAST-MODIFIED:20251218T152642Z
UID:15749-1766304000-1766336400@azulescultura.com.ar
SUMMARY:Primer Encuentro de Meditación en Azul
DESCRIPTION:El Municipio de Azul invita a la comunidad\, este domingo 21 de diciembre a las 10\, en el Anfiteatro del Parque Municipal\, a celebrar el Día Internacional de la Meditación con una clase de yoga a cargo de la profesora Marianela Garavaglia\, una meditación guiada a cargo de Fernando Sosa y el cierre de El Viaje invitando a participar del canto de mantras y kirtan con un estilo propio y original. \nEl evento\, organizado por el conjunto musical El Viaje\, tendrá entrada libre y gratuita y solicitan un alimento no perecedero para ser donado a entidades que lo requieran. \nNo es necesario tener experiencia previa. Solo ropa cómoda\, mat de yoga\, esterilla\, colchoneta o manta. \n 
URL:http://azulescultura.com.ar/event/primer-encuentro-de-meditacion-en-azul/
ATTACH;FMTTYPE=image/jpeg:http://azulescultura.com.ar/wp-content/uploads/2025/12/Encuentro-de-meditacion.jpg
END:VEVENT
BEGIN:VEVENT
DTSTART;TZID=America/Sao_Paulo:20251221T080000
DTEND;TZID=America/Sao_Paulo:20251221T170000
DTSTAMP:20260420T074036
CREATED:20251218T152730Z
LAST-MODIFIED:20251218T152730Z
UID:15751-1766304000-1766336400@azulescultura.com.ar
SUMMARY:Festival Solidario en el Parque Municipal
DESCRIPTION:El Municipio de Azul invita a la comunidad\, este domingo 21 desde las 17\, en el Anfiteatro del Parque Municipal\, a participar del Festival Solidario “Todos por Rocío”. \nDurante la jornada\, se presentarán Chiquito Rodríguez\, Gonzalo Verón\, Los Rurales\, Ecos de la Telesita\, Emmanuel Cordó\, Hugo Castro\, Juan Sosa\, Matías Sasale\, Mago Jebús\, PlinPlin y Labubu. \nEl evento tiene por finalidad recaudar fondos para el tratamiento médico de Rocío Pichirilo. \n 
URL:http://azulescultura.com.ar/event/festival-solidario-en-el-parque-municipal/
ATTACH;FMTTYPE=image/jpeg:http://azulescultura.com.ar/wp-content/uploads/2025/12/Todos-por-Rocio.jpg
END:VEVENT
BEGIN:VEVENT
DTSTART;TZID=America/Sao_Paulo:20251221T170000
DTEND;TZID=America/Sao_Paulo:20251221T220000
DTSTAMP:20260420T074036
CREATED:20251219T220657Z
LAST-MODIFIED:20251219T220657Z
UID:15778-1766336400-1766354400@azulescultura.com.ar
SUMMARY:Copa Municipal Navideña de Newcom
DESCRIPTION:El Municipio de Azul invita a la comunidad a participar de la Copa Navideña de Newcom\, que se realizará el domingo 21 y está organizada por la Escuela Municipal de la disciplina. \nLa jornada tendrá lugar de 17 a 22 en la cancha del Azul Rugby Club. \nEn la ocasión\, las categorías que se disputarán serán +40\, +50 y +60. \nSe espera contar con una amplia convocatoria de jugadores y con el acompañamiento de vecinos y vecinas durante esta propuesta deportiva. \n 
URL:http://azulescultura.com.ar/event/copa-municipal-navidena-de-newcom/
ATTACH;FMTTYPE=image/jpeg:http://azulescultura.com.ar/wp-content/uploads/2025/12/Newcom-1.jpg
END:VEVENT
BEGIN:VEVENT
DTSTART;TZID=America/Sao_Paulo:20251226T080000
DTEND;TZID=America/Sao_Paulo:20251227T170000
DTSTAMP:20260420T074036
CREATED:20251219T221145Z
LAST-MODIFIED:20251219T221325Z
UID:15780-1766736000-1766854800@azulescultura.com.ar
SUMMARY:Azul Rock 2025: grilla de bandas
DESCRIPTION:El Municipio de Azul informa la grilla de bandas que conformarán la 37° edición de Azul Rock\, la cual se realizará el viernes 26 y sábado 27 de diciembre en el Balneario Municipal. \nLa misma se detalla a continuación\, con los respectivos horarios de presentación: \n  \nViernes 26 \n18:00 3l ch4v0 \n18:20 Cabayo24 \n18:40 El Último Ratón \n19:00 Rolf! \n19:30 Camila Enríquez \n20:00 Mangrullo \n20:30 De Tal Palo \n21:00 Hammurabi \n21:30 Éticos Escépticos \n22:00 Futura \n22:30 Extraña Magia \n23:00 Bargus \n23:30 Libremente \n00:00 20 Peso! \n00:30 Facón \n01:00 43 Studio \n  \nSábado 27  \n18:00 Frecuencia Negativa \n18:20 Diablos Max! \n18:40 Efecto Doppler \n19:00 Yasora \n19:30 Amanda Red \n20:00 Los Entes del Kely \n20:30 Anti \n21:00 MagicChambers \n21:30 Harrtos \n22:00 Inirida \n22:30 La Patada Blues \n23:00 Artuá \n23:30 Reclusos \n00:00 Castigador \n00:30 El Último Insurgente \n01:00 Chico Ponche \nSe invita a la población a formar parte del tradicional evento que celebra la música local y el encuentro entre azuleños y azuleñas.
URL:http://azulescultura.com.ar/event/azul-rock-2025-grilla-de-bandas/
ATTACH;FMTTYPE=image/jpeg:http://azulescultura.com.ar/wp-content/uploads/2025/12/Azul-Rock-1.jpg
END:VEVENT
END:VCALENDAR