BEGIN:VCALENDAR
VERSION:2.0
PRODID:-//Azul es Cultura - ECPv6.15.20//NONSGML v1.0//EN
CALSCALE:GREGORIAN
METHOD:PUBLISH
X-WR-CALNAME:Azul es Cultura
X-ORIGINAL-URL:http://azulescultura.com.ar
X-WR-CALDESC:Eventos para Azul es Cultura
REFRESH-INTERVAL;VALUE=DURATION:PT1H
X-Robots-Tag:noindex
X-PUBLISHED-TTL:PT1H
BEGIN:VTIMEZONE
TZID:America/Sao_Paulo
BEGIN:STANDARD
TZOFFSETFROM:-0300
TZOFFSETTO:-0300
TZNAME:-03
DTSTART:20250101T000000
END:STANDARD
END:VTIMEZONE
BEGIN:VEVENT
DTSTART;TZID=America/Sao_Paulo:20260606T210000
DTEND;TZID=America/Sao_Paulo:20260606T210000
DTSTAMP:20260420T095909
CREATED:20260326T200227Z
LAST-MODIFIED:20260326T200326Z
UID:16253-1780779600-1780779600@azulescultura.com.ar
SUMMARY:GERMÁN PALACIOS E INÉS ESTÉVEZ EN “EL HOMBRE INESPERADO”
DESCRIPTION:Llega a Azul la obra “El hombre inesperado” de Yasmina Reza\, con traducción de Gonzalo Garcés es una comedia dramática magistralmente interpretada\, que se encuentra en su segunda temporada. Interpretada por Germán Palacios e Inés Estévez\, la puesta está dirigida por los mismos actores. \nUn viaje. Un encuentro impensado. Suspenso y misterio. Dos soledades coinciden en un mismo vagón de tren. Sus pensamientos vuelan hasta entrecruzarse en un intercambio pleno de poesía\, humor\, inteligencia y giros sorprendentes llenos de intriga que podrían transformar sus vidas. \n¿Cuánto de esto es azar? ¿Cuánto es destino? \nEl espectador va a decidirlo mientras viaja con ellos. \nCon vestuario de Romina Giangreco; escenografía de Ariel Vaccaro; diseño de iluminación de Ricardo Sica y diseño sonoro con música original de Francisco Sicilia. \n“El hombre inesperado” se presentará el sábado 6 de junio a las 21 hs. en el Teatro Español de Azul con la organización de la Fundación del Teatro Español y auspiciado por la Asociación Española. \nEntradas anticipadas a la venta en boletería del Teatro.\nValor de las entradas con ubicación: $ 40.000.-
URL:http://azulescultura.com.ar/event/german-palacios-e-ines-estevez-en-el-hombre-inesperado/
ATTACH;FMTTYPE=image/jpeg:http://azulescultura.com.ar/wp-content/uploads/2026/03/El-hombre-inesperado-afiche-pagina-1.jpg
END:VEVENT
END:VCALENDAR