BEGIN:VCALENDAR
VERSION:2.0
PRODID:-//Azul es Cultura - ECPv6.15.20//NONSGML v1.0//EN
CALSCALE:GREGORIAN
METHOD:PUBLISH
X-ORIGINAL-URL:http://azulescultura.com.ar
X-WR-CALDESC:Eventos para Azul es Cultura
REFRESH-INTERVAL;VALUE=DURATION:PT1H
X-Robots-Tag:noindex
X-PUBLISHED-TTL:PT1H
BEGIN:VTIMEZONE
TZID:America/Sao_Paulo
BEGIN:STANDARD
TZOFFSETFROM:-0300
TZOFFSETTO:-0300
TZNAME:-03
DTSTART:20250101T000000
END:STANDARD
END:VTIMEZONE
BEGIN:VEVENT
DTSTART;TZID=America/Sao_Paulo:20260125T080000
DTEND;TZID=America/Sao_Paulo:20260125T170000
DTSTAMP:20260420T051553
CREATED:20260120T172104Z
LAST-MODIFIED:20260120T172104Z
UID:15843-1769328000-1769360400@azulescultura.com.ar
SUMMARY:Festival Viajero de Rodar Latinoamérica\, en el Parque Municipal
DESCRIPTION:El Municipio de Azul informa que este domingo 25 de enero\, a partir de las 18\, en la Loma del Parque Municipal\, se realizará el Festival Viajero de Rodar Latinoamérica\, equipo formado por Pitu Tocino y Fran Sortino. \nAllí ofrecerán un taller de movimientos acrobáticos\, otro de cine para infancias y una proyección de cine bajo las estrellas. La jornada incluirá también juegos\, micrófono abierto\, una trivia viajera\, sorteos y un stand de artesanías de los protagonistas en su recorrido desde México a Argentina. \nSe invita a la comunidad a participar y disfrutar de la experiencia de viaje de nuestros artistas locales. \n 
URL:http://azulescultura.com.ar/event/festival-viajero-de-rodar-latinoamerica-en-el-parque-municipal/
ATTACH;FMTTYPE=image/jpeg:http://azulescultura.com.ar/wp-content/uploads/2026/01/FestivalViajero.jpg
END:VEVENT
END:VCALENDAR